BEGIN:VCALENDAR
VERSION:2.0
PRODID:-//BALÀFIA ASSOCIACIÓ VEÏNAL - ECPv6.15.20//NONSGML v1.0//EN
CALSCALE:GREGORIAN
METHOD:PUBLISH
X-WR-CALNAME:BALÀFIA ASSOCIACIÓ VEÏNAL
X-ORIGINAL-URL:https://balafia.org
X-WR-CALDESC:Esdeveniments per BALÀFIA ASSOCIACIÓ VEÏNAL
REFRESH-INTERVAL;VALUE=DURATION:PT1H
X-Robots-Tag:noindex
X-PUBLISHED-TTL:PT1H
BEGIN:VTIMEZONE
TZID:Europe/Paris
BEGIN:DAYLIGHT
TZOFFSETFROM:+0100
TZOFFSETTO:+0200
TZNAME:CEST
DTSTART:20230326T010000
END:DAYLIGHT
BEGIN:STANDARD
TZOFFSETFROM:+0200
TZOFFSETTO:+0100
TZNAME:CET
DTSTART:20231029T010000
END:STANDARD
BEGIN:DAYLIGHT
TZOFFSETFROM:+0100
TZOFFSETTO:+0200
TZNAME:CEST
DTSTART:20240331T010000
END:DAYLIGHT
BEGIN:STANDARD
TZOFFSETFROM:+0200
TZOFFSETTO:+0100
TZNAME:CET
DTSTART:20241027T010000
END:STANDARD
BEGIN:DAYLIGHT
TZOFFSETFROM:+0100
TZOFFSETTO:+0200
TZNAME:CEST
DTSTART:20250330T010000
END:DAYLIGHT
BEGIN:STANDARD
TZOFFSETFROM:+0200
TZOFFSETTO:+0100
TZNAME:CET
DTSTART:20251026T010000
END:STANDARD
END:VTIMEZONE
BEGIN:VEVENT
DTSTART;TZID=Europe/Paris:20240902T203000
DTEND;TZID=Europe/Paris:20240902T233000
DTSTAMP:20260421T231927
CREATED:20240829T134935Z
LAST-MODIFIED:20240829T134935Z
UID:2239-1725309000-1725319800@balafia.org
SUMMARY:Marxa nocturna contra feminicidis
DESCRIPTION:
URL:https://balafia.org/event/marxa-nocturna-contra-feminicidis/
LOCATION:Plaça Maria Aurelia Capmany
END:VEVENT
BEGIN:VEVENT
DTSTART;TZID=Europe/Paris:20240918T180000
DTEND;TZID=Europe/Paris:20240918T190000
DTSTAMP:20260421T231927
CREATED:20240910T134933Z
LAST-MODIFIED:20240910T134933Z
UID:2297-1726682400-1726686000@balafia.org
SUMMARY:A Balàfia en català!
DESCRIPTION:
URL:https://balafia.org/event/a-balafia-en-catala/
LOCATION:Centre Civic Balàfa\, C/ Penedés 19\, Lleida\, 25004\, Espanya
END:VEVENT
BEGIN:VEVENT
DTSTART;TZID=Europe/Paris:20240919T173000
DTEND;TZID=Europe/Paris:20240919T193000
DTSTAMP:20260421T231927
CREATED:20240914T153746Z
LAST-MODIFIED:20240914T153746Z
UID:2344-1726767000-1726774200@balafia.org
SUMMARY:Urbanisme feminista
DESCRIPTION:
URL:https://balafia.org/event/urbanisme-feminista/
LOCATION:Sala Paulo Freire\, Spain
END:VEVENT
BEGIN:VEVENT
DTSTART;TZID=Europe/Paris:20240923T190000
DTEND;TZID=Europe/Paris:20240925T200000
DTSTAMP:20260421T231927
CREATED:20240905T095705Z
LAST-MODIFIED:20240913T103614Z
UID:2277-1727118000-1727294400@balafia.org
SUMMARY:Body Life portes obertes
DESCRIPTION:
URL:https://balafia.org/event/body-life-portes-obertes/
LOCATION:Centre Civic Balàfa\, C/ Penedés 19\, Lleida\, 25004\, Espanya
END:VEVENT
BEGIN:VEVENT
DTSTART;TZID=Europe/Paris:20240925T180000
DTEND;TZID=Europe/Paris:20240925T190000
DTSTAMP:20260421T231927
CREATED:20240928T094543Z
LAST-MODIFIED:20240928T094543Z
UID:2363-1727287200-1727290800@balafia.org
SUMMARY:Hàbits saludables
DESCRIPTION:
URL:https://balafia.org/event/habits-saludables/
LOCATION:Centre Civic Balàfa\, C/ Penedés 19\, Lleida\, 25004\, Espanya
END:VEVENT
BEGIN:VEVENT
DTSTART;TZID=Europe/Paris:20240925T180000
DTEND;TZID=Europe/Paris:20241120T190000
DTSTAMP:20260421T231927
CREATED:20240912T112004Z
LAST-MODIFIED:20240912T112004Z
UID:2303-1727287200-1732129200@balafia.org
SUMMARY:Hàbits saludables conferències
DESCRIPTION:
URL:https://balafia.org/event/habits-saludables-conferencies/
LOCATION:Centre Civic Balàfa\, C/ Penedés 19\, Lleida\, 25004\, Espanya
END:VEVENT
BEGIN:VEVENT
DTSTART;TZID=Europe/Paris:20240925T200000
DTEND;TZID=Europe/Paris:20240925T210000
DTSTAMP:20260421T231927
CREATED:20240905T095544Z
LAST-MODIFIED:20240913T103528Z
UID:2275-1727294400-1727298000@balafia.org
SUMMARY:Pilates portes obertes
DESCRIPTION:
URL:https://balafia.org/event/pilates-portes-obertes/
LOCATION:Centre Civic Balàfa\, C/ Penedés 19\, Lleida\, 25004\, Espanya
END:VEVENT
BEGIN:VEVENT
DTSTART;TZID=Europe/Paris:20240925T200000
DTEND;TZID=Europe/Paris:20240925T210000
DTSTAMP:20260421T231927
CREATED:20240910T075256Z
LAST-MODIFIED:20240913T103709Z
UID:2289-1727294400-1727298000@balafia.org
SUMMARY:Country
DESCRIPTION:
URL:https://balafia.org/event/country/
LOCATION:Centre Civic Balàfa\, C/ Penedés 19\, Lleida\, 25004\, Espanya
END:VEVENT
END:VCALENDAR